BEGIN:VCALENDAR
VERSION:2.0
PRODID:-//wp-events-plugin.com//7.2.2.1//EN
TZID:America/Toronto
X-WR-TIMEZONE:America/Toronto
BEGIN:VEVENT
UID:51@rocksnake.ca
DTSTART;TZID=America/Toronto:20190525T210000
DTEND;TZID=America/Toronto:20190525T233000
DTSTAMP:20190409T150445Z
URL:https://www.rocksnake.ca/events/rock-snake-rocks-the-rainbow/
SUMMARY:Rock Snake rocks The Rainbow
DESCRIPTION:
LOCATION:The Rainbow\, 76 Murray Street\, Ottawa\, Ontario\, Canada
GEO:45.4294726;-75.6938682
X-APPLE-STRUCTURED-LOCATION;VALUE=URI;X-ADDRESS=76 Murray Street\, Ottawa\,
  Ontario\, Canada;X-APPLE-RADIUS=100;X-TITLE=The Rainbow:geo:45.4294726,-7
 5.6938682
END:VEVENT
BEGIN:VTIMEZONE
TZID:America/Toronto
X-LIC-LOCATION:America/Toronto
BEGIN:DAYLIGHT
DTSTART:20190310T030000
TZOFFSETFROM:-0500
TZOFFSETTO:-0400
TZNAME:EDT
END:DAYLIGHT
END:VTIMEZONE
END:VCALENDAR