BEGIN:VCALENDAR
VERSION:2.0
PRODID:-//wp-events-plugin.com//7.2.2.1//EN
TZID:America/Toronto
X-WR-TIMEZONE:America/Toronto
BEGIN:VEVENT
UID:49@rocksnake.ca
DTSTART;TZID=America/Toronto:20181214T210000
DTEND;TZID=America/Toronto:20181214T233000
DTSTAMP:20181004T142035Z
URL:https://www.rocksnake.ca/events/rock-snake-greenfields-gastro-public-h
 ouse/
SUMMARY:Rock Snake @ Greenfield's Gastro Public House
DESCRIPTION:
LOCATION:Greenfields Pub\, 900 Greenbank Road\, Ottawa\, Ontario\, Canada
GEO:45.2847264;-75.75646169999999
X-APPLE-STRUCTURED-LOCATION;VALUE=URI;X-ADDRESS=900 Greenbank Road\, Ottawa
 \, Ontario\, Canada;X-APPLE-RADIUS=100;X-TITLE=Greenfields Pub:geo:45.2847
 264,-75.75646169999999
END:VEVENT
BEGIN:VTIMEZONE
TZID:America/Toronto
X-LIC-LOCATION:America/Toronto
BEGIN:STANDARD
DTSTART:20181104T010000
TZOFFSETFROM:-0400
TZOFFSETTO:-0500
TZNAME:EST
END:STANDARD
END:VTIMEZONE
END:VCALENDAR