BEGIN:VCALENDAR
VERSION:2.0
PRODID:-//wp-events-plugin.com//7.2.2.1//EN
TZID:America/Toronto
X-WR-TIMEZONE:America/Toronto
BEGIN:VEVENT
UID:56@rocksnake.ca
DTSTART;TZID=America/Toronto:20221231T203000
DTEND;TZID=America/Toronto:20221231T234500
DTSTAMP:20221229T154657Z
URL:https://www.rocksnake.ca/events/new-years-eve-with-rock-snake/
SUMMARY:NEW YEARS EVE WITH ROCK SNAKE!!!
DESCRIPTION:
LOCATION:Moose McGuire's\, 3320 McCarthy Road\, Ottawa\, Ontario\, Canada
GEO:45.35077709999999;-75.67084549999998
X-APPLE-STRUCTURED-LOCATION;VALUE=URI;X-ADDRESS=3320 McCarthy Road\, Ottawa
 \, Ontario\, Canada;X-APPLE-RADIUS=100;X-TITLE=Moose McGuire's:geo:45.3507
 7709999999,-75.67084549999998
END:VEVENT
BEGIN:VTIMEZONE
TZID:America/Toronto
X-LIC-LOCATION:America/Toronto
BEGIN:STANDARD
DTSTART:20221106T010000
TZOFFSETFROM:-0400
TZOFFSETTO:-0500
TZNAME:EST
END:STANDARD
END:VTIMEZONE
END:VCALENDAR